Package: iClusterPlus Version: 1.46.0 Command: /home/biocbuild/bbs-3.22-bioc/R/bin/R CMD check --install=check:iClusterPlus.install-out.txt --library=/home/biocbuild/bbs-3.22-bioc/R/site-library --timings iClusterPlus_1.46.0.tar.gz StartedAt: 2025-11-12 00:38:09 -0500 (Wed, 12 Nov 2025) EndedAt: 2025-11-12 00:39:26 -0500 (Wed, 12 Nov 2025) EllapsedTime: 77.1 seconds RetCode: 0 Status: OK CheckDir: iClusterPlus.Rcheck Warnings: 0