Package: iClusterPlus Version: 1.44.0 Command: /home/biocbuild/R/R/bin/R CMD INSTALL iClusterPlus StartedAt: 2025-09-25 20:13:09 -0000 (Thu, 25 Sep 2025) EndedAt: 2025-09-25 20:13:22 -0000 (Thu, 25 Sep 2025) EllapsedTime: 13.2 seconds RetCode: 1 Status: ERROR