Package: iClusterPlus Version: 1.44.0 Command: /Library/Frameworks/R.framework/Resources/bin/R CMD build --keep-empty-dirs --no-resave-data iClusterPlus StartedAt: 2025-09-26 02:23:24 -0400 (Fri, 26 Sep 2025) EndedAt: 2025-09-26 02:24:14 -0400 (Fri, 26 Sep 2025) EllapsedTime: 49.9 seconds RetCode: 0 Status: OK PackageFile: iClusterPlus_1.44.0.tar.gz PackageFileSize: 20.69 MiB