Package: iClusterPlus Version: 1.44.0 Command: rm -rf iClusterPlus.buildbin-libdir && mkdir iClusterPlus.buildbin-libdir && /Users/biocbuild/BBS/utils/build-universal.sh iClusterPlus_1.44.0.tar.gz /Library/Frameworks/R.framework/Resources/bin/R iClusterPlus.buildbin-libdir StartedAt: 2025-09-27 17:52:57 -0400 (Sat, 27 Sep 2025) EndedAt: 2025-09-27 17:53:45 -0400 (Sat, 27 Sep 2025) EllapsedTime: 48.1 seconds RetCode: 0 Status: OK PackageFile: iClusterPlus_1.44.0.tgz PackageFileSize: 16.12 MiB