Package: iCheck Version: 1.40.0 Command: /home/biocbuild/bbs-3.22-bioc/R/bin/R CMD INSTALL iCheck StartedAt: 2025-11-11 16:06:34 -0500 (Tue, 11 Nov 2025) EndedAt: 2025-11-11 16:07:18 -0500 (Tue, 11 Nov 2025) EllapsedTime: 44.9 seconds RetCode: 0 Status: OK