Package: iCheck Version: 1.40.0 Command: /home/biocbuild/bbs-3.22-bioc/R/bin/R CMD build --keep-empty-dirs --no-resave-data --md5 iCheck StartedAt: 2025-11-11 18:16:13 -0500 (Tue, 11 Nov 2025) EndedAt: 2025-11-11 18:17:19 -0500 (Tue, 11 Nov 2025) EllapsedTime: 66.1 seconds RetCode: 0 Status: OK PackageFile: iCheck_1.40.0.tar.gz PackageFileSize: 560.9 KiB