Package: iCheck Version: 1.38.0 Command: /home/biocbuild/bbs-3.21-bioc/R/bin/R CMD build --keep-empty-dirs --no-resave-data iCheck StartedAt: 2025-10-15 18:02:31 -0400 (Wed, 15 Oct 2025) EndedAt: 2025-10-15 18:03:37 -0400 (Wed, 15 Oct 2025) EllapsedTime: 66.1 seconds RetCode: 0 Status: OK PackageFile: iCheck_1.38.0.tar.gz PackageFileSize: 559.5 KiB