Package: iCheck Version: 1.40.0 Command: /Library/Frameworks/R.framework/Resources/bin/R CMD INSTALL iCheck StartedAt: 2025-10-30 15:50:48 -0400 (Thu, 30 Oct 2025) EndedAt: 2025-10-30 15:51:26 -0400 (Thu, 30 Oct 2025) EllapsedTime: 38.4 seconds RetCode: 0 Status: OK