Package: iCheck Version: 1.40.0 Command: /Library/Frameworks/R.framework/Resources/bin/R CMD build --keep-empty-dirs --no-resave-data iCheck StartedAt: 2025-10-30 17:17:56 -0400 (Thu, 30 Oct 2025) EndedAt: 2025-10-30 17:19:22 -0400 (Thu, 30 Oct 2025) EllapsedTime: 86.0 seconds RetCode: 0 Status: OK PackageFile: iCheck_1.40.0.tar.gz PackageFileSize: 558.8 KiB