Package: iCheck Version: 1.38.0 Command: /home/biocbuild/R/R/bin/R CMD INSTALL iCheck StartedAt: 2025-10-06 21:19:36 -0000 (Mon, 06 Oct 2025) EndedAt: 2025-10-06 21:20:41 -0000 (Mon, 06 Oct 2025) EllapsedTime: 65.0 seconds RetCode: 0 Status: OK