Package: iCheck Version: 1.38.0 Command: /home/biocbuild/R/R/bin/R CMD build --keep-empty-dirs --no-resave-data iCheck StartedAt: 2025-10-03 01:47:51 -0000 (Fri, 03 Oct 2025) EndedAt: 2025-10-03 01:49:26 -0000 (Fri, 03 Oct 2025) EllapsedTime: 95.0 seconds RetCode: 0 Status: OK PackageFile: iCheck_1.38.0.tar.gz PackageFileSize: 547.8 KiB