Package: iCheck Version: 1.38.0 Command: /Library/Frameworks/R.framework/Resources/bin/R CMD INSTALL iCheck StartedAt: 2025-10-13 18:35:41 -0400 (Mon, 13 Oct 2025) EndedAt: 2025-10-13 18:36:38 -0400 (Mon, 13 Oct 2025) EllapsedTime: 56.4 seconds RetCode: 0 Status: OK