Package: iCheck Version: 1.38.0 Command: rm -rf iCheck.buildbin-libdir && mkdir iCheck.buildbin-libdir && /Users/biocbuild/BBS/utils/build-universal.sh iCheck_1.38.0.tar.gz /Library/Frameworks/R.framework/Resources/bin/R iCheck.buildbin-libdir StartedAt: 2025-10-15 18:53:45 -0400 (Wed, 15 Oct 2025) EndedAt: 2025-10-15 18:54:46 -0400 (Wed, 15 Oct 2025) EllapsedTime: 61.6 seconds RetCode: 0 Status: OK PackageFile: iCheck_1.38.0.tgz PackageFileSize: 775.8 KiB