Package: iCheck Version: 1.40.0 Maintainer: Weiliang Qiu MaintainerEmail: stwxq at channing.harvard.edu git_url: https://git.bioconductor.org/packages/iCheck git_branch: RELEASE_3_22 git_last_commit: 109cb15 git_last_commit_date: 2025-10-29 10:28:02 -0400 (Wed, 29 Oct 2025)