Package: iCNV Version: 1.30.0 Command: /home/biocbuild/bbs-3.22-bioc/R/bin/R CMD INSTALL iCNV StartedAt: 2025-11-11 15:39:21 -0500 (Tue, 11 Nov 2025) EndedAt: 2025-11-11 15:39:54 -0500 (Tue, 11 Nov 2025) EllapsedTime: 32.6 seconds RetCode: 0 Status: OK