Package: iCNV Version: 1.30.0 Command: /home/biocbuild/bbs-3.22-bioc/R/bin/R CMD build --keep-empty-dirs --no-resave-data --md5 iCNV StartedAt: 2025-11-11 18:16:36 -0500 (Tue, 11 Nov 2025) EndedAt: 2025-11-11 18:18:39 -0500 (Tue, 11 Nov 2025) EllapsedTime: 123.2 seconds RetCode: 0 Status: OK PackageFile: iCNV_1.30.0.tar.gz PackageFileSize: 2.232 MiB