Package: iCARE Version: 1.38.0 Command: /home/biocbuild/bbs-3.22-bioc/R/bin/R CMD INSTALL iCARE StartedAt: 2025-11-14 15:09:10 -0500 (Fri, 14 Nov 2025) EndedAt: 2025-11-14 15:09:26 -0500 (Fri, 14 Nov 2025) EllapsedTime: 16.0 seconds RetCode: 0 Status: OK