Package: iBBiG Version: 1.54.0 Command: /home/biocbuild/bbs-3.22-bioc/R/bin/R CMD INSTALL iBBiG StartedAt: 2025-11-06 15:10:15 -0500 (Thu, 06 Nov 2025) EndedAt: 2025-11-06 15:10:30 -0500 (Thu, 06 Nov 2025) EllapsedTime: 15.6 seconds RetCode: 0 Status: OK