Package: iBBiG Version: 1.54.0 Command: /home/biocbuild/bbs-3.22-bioc/R/bin/R CMD build --keep-empty-dirs --no-resave-data --md5 iBBiG StartedAt: 2025-11-06 18:10:27 -0500 (Thu, 06 Nov 2025) EndedAt: 2025-11-06 18:11:02 -0500 (Thu, 06 Nov 2025) EllapsedTime: 35.0 seconds RetCode: 0 Status: OK PackageFile: iBBiG_1.54.0.tar.gz PackageFileSize: 909.9 KiB