Package: iASeq Version: 1.54.0 Command: /home/biocbuild/bbs-3.22-bioc/R/bin/R CMD INSTALL iASeq StartedAt: 2025-11-11 15:06:24 -0500 (Tue, 11 Nov 2025) EndedAt: 2025-11-11 15:06:31 -0500 (Tue, 11 Nov 2025) EllapsedTime: 6.7 seconds RetCode: 0 Status: OK