Package: iASeq Version: 1.54.0 Command: /Library/Frameworks/R.framework/Resources/bin/R CMD INSTALL iASeq StartedAt: 2025-11-03 15:09:10 -0500 (Mon, 03 Nov 2025) EndedAt: 2025-11-03 15:09:24 -0500 (Mon, 03 Nov 2025) EllapsedTime: 13.4 seconds RetCode: 0 Status: OK