Package: iASeq Version: 1.54.0 Command: /Library/Frameworks/R.framework/Resources/bin/R CMD build --keep-empty-dirs --no-resave-data iASeq StartedAt: 2025-11-03 17:24:08 -0500 (Mon, 03 Nov 2025) EndedAt: 2025-11-03 17:24:27 -0500 (Mon, 03 Nov 2025) EllapsedTime: 18.4 seconds RetCode: 0 Status: OK PackageFile: iASeq_1.54.0.tar.gz PackageFileSize: 205.4 KiB