Package: iASeq Version: 1.52.0 Command: /home/biocbuild/R/R/bin/R CMD INSTALL iASeq StartedAt: 2025-10-13 20:12:36 -0000 (Mon, 13 Oct 2025) EndedAt: 2025-10-13 20:12:44 -0000 (Mon, 13 Oct 2025) EllapsedTime: 8.5 seconds RetCode: 0 Status: OK