Package: iASeq Version: 1.52.0 Command: /home/biocbuild/R/R/bin/R CMD build --keep-empty-dirs --no-resave-data iASeq StartedAt: 2025-10-14 01:43:59 -0000 (Tue, 14 Oct 2025) EndedAt: 2025-10-14 01:44:09 -0000 (Tue, 14 Oct 2025) EllapsedTime: 10.0 seconds RetCode: 0 Status: OK PackageFile: iASeq_1.52.0.tar.gz PackageFileSize: 200 KiB