Package: hypergraph Version: 1.82.0 Command: /home/biocbuild/R/R/bin/R CMD INSTALL hypergraph StartedAt: 2025-11-10 21:19:07 -0000 (Mon, 10 Nov 2025) EndedAt: 2025-11-10 21:19:15 -0000 (Mon, 10 Nov 2025) EllapsedTime: 7.9 seconds RetCode: 0 Status: OK