Package: hypergraph Version: 1.82.0 Command: /home/biocbuild/R/R/bin/R CMD build --keep-empty-dirs --no-resave-data hypergraph StartedAt: 2025-11-11 02:30:21 -0000 (Tue, 11 Nov 2025) EndedAt: 2025-11-11 02:30:22 -0000 (Tue, 11 Nov 2025) EllapsedTime: 1.0 seconds RetCode: 0 Status: OK PackageFile: hypergraph_1.82.0.tar.gz PackageFileSize: 8.267 KiB