Package: hyperdraw Version: 1.62.0 Command: /home/biocbuild/R/R/bin/R CMD INSTALL hyperdraw StartedAt: 2025-11-10 21:20:39 -0000 (Mon, 10 Nov 2025) EndedAt: 2025-11-10 21:20:48 -0000 (Mon, 10 Nov 2025) EllapsedTime: 8.4 seconds RetCode: 0 Status: OK