Package: hyperdraw Version: 1.62.0 Command: /home/biocbuild/R/R/bin/R CMD build --keep-empty-dirs --no-resave-data hyperdraw StartedAt: 2025-11-11 02:30:21 -0000 (Tue, 11 Nov 2025) EndedAt: 2025-11-11 02:30:32 -0000 (Tue, 11 Nov 2025) EllapsedTime: 11.0 seconds RetCode: 0 Status: OK PackageFile: hyperdraw_1.62.0.tar.gz PackageFileSize: 197.4 KiB