Package: hyperdraw Version: 1.60.0 Command: E:\biocbuild\bbs-3.21-bioc\R\bin\R.exe CMD INSTALL hyperdraw StartedAt: 2025-08-14 15:56:03 -0400 (Thu, 14 Aug 2025) EndedAt: 2025-08-14 15:56:19 -0400 (Thu, 14 Aug 2025) EllapsedTime: 16.4 seconds RetCode: 0 Status: OK