Package: hyperdraw Version: 1.60.0 Command: chmod a+r hyperdraw -R && E:\biocbuild\bbs-3.21-bioc\R\bin\R.exe CMD build --keep-empty-dirs --no-resave-data hyperdraw StartedAt: 2025-08-14 19:47:13 -0400 (Thu, 14 Aug 2025) EndedAt: 2025-08-14 19:47:30 -0400 (Thu, 14 Aug 2025) EllapsedTime: 16.9 seconds RetCode: 0 Status: OK PackageFile: hyperdraw_1.60.0.tar.gz PackageFileSize: 88.71 KiB