Package: hyperdraw Version: 1.62.0 Command: /home/biocbuild/bbs-3.22-bioc/R/bin/R CMD INSTALL hyperdraw StartedAt: 2025-11-11 15:19:05 -0500 (Tue, 11 Nov 2025) EndedAt: 2025-11-11 15:19:10 -0500 (Tue, 11 Nov 2025) EllapsedTime: 4.9 seconds RetCode: 0 Status: OK