Package: hyperdraw Version: 1.60.0 Command: /Library/Frameworks/R.framework/Resources/bin/R CMD INSTALL hyperdraw StartedAt: 2025-10-02 15:25:55 -0400 (Thu, 02 Oct 2025) EndedAt: 2025-10-02 15:26:07 -0400 (Thu, 02 Oct 2025) EllapsedTime: 11.2 seconds RetCode: 0 Status: OK