Package: hyperdraw Version: 1.60.0 Command: rm -rf hyperdraw.buildbin-libdir && mkdir hyperdraw.buildbin-libdir && /Users/biocbuild/BBS/utils/build-universal.sh hyperdraw_1.60.0.tar.gz /Library/Frameworks/R.framework/Resources/bin/R hyperdraw.buildbin-libdir StartedAt: 2025-10-03 13:28:42 -0400 (Fri, 03 Oct 2025) EndedAt: 2025-10-03 13:29:02 -0400 (Fri, 03 Oct 2025) EllapsedTime: 19.4 seconds RetCode: 0 Status: OK PackageFile: hyperdraw_1.60.0.tgz PackageFileSize: 390 KiB