Package: hypeR Version: 2.8.0 Command: /home/biocbuild/bbs-3.22-bioc/R/bin/R CMD INSTALL hypeR StartedAt: 2025-11-13 15:09:19 -0500 (Thu, 13 Nov 2025) EndedAt: 2025-11-13 15:09:28 -0500 (Thu, 13 Nov 2025) EllapsedTime: 9.4 seconds RetCode: 1 Status: ERROR