Package: hypeR Version: 2.8.0 Command: /home/biocbuild/bbs-3.22-bioc/R/bin/R CMD build --keep-empty-dirs --no-resave-data --md5 hypeR StartedAt: 2025-11-13 18:14:06 -0500 (Thu, 13 Nov 2025) EndedAt: 2025-11-13 18:14:09 -0500 (Thu, 13 Nov 2025) EllapsedTime: 3.0 seconds RetCode: 1 Status: ERROR PackageFile: None PackageFileSize: NA