Package: hpar Version: 1.52.0 Command: /home/biocbuild/bbs-3.22-bioc/R/bin/R CMD build --keep-empty-dirs --no-resave-data --md5 hpar StartedAt: 2025-11-13 18:13:21 -0500 (Thu, 13 Nov 2025) EndedAt: 2025-11-13 18:13:57 -0500 (Thu, 13 Nov 2025) EllapsedTime: 36.0 seconds RetCode: 0 Status: OK PackageFile: hpar_1.52.0.tar.gz PackageFileSize: 885.6 KiB