Package: hopach Version: 2.70.0 Command: /home/biocbuild/bbs-3.22-bioc/R/bin/R CMD INSTALL hopach StartedAt: 2025-11-14 15:15:24 -0500 (Fri, 14 Nov 2025) EndedAt: 2025-11-14 15:15:30 -0500 (Fri, 14 Nov 2025) EllapsedTime: 6.0 seconds RetCode: 0 Status: OK