Package: hoodscanR Version: 1.8.0 Command: /home/biocbuild/bbs-3.22-bioc/R/bin/R CMD INSTALL hoodscanR StartedAt: 2025-11-16 15:20:50 -0500 (Sun, 16 Nov 2025) EndedAt: 2025-11-16 15:21:22 -0500 (Sun, 16 Nov 2025) EllapsedTime: 31.5 seconds RetCode: 0 Status: OK