Package: hoodscanR Version: 1.8.0 Command: /home/biocbuild/bbs-3.22-bioc/R/bin/R CMD build --keep-empty-dirs --no-resave-data --md5 hoodscanR StartedAt: 2025-11-16 18:16:09 -0500 (Sun, 16 Nov 2025) EndedAt: 2025-11-16 18:17:08 -0500 (Sun, 16 Nov 2025) EllapsedTime: 59.1 seconds RetCode: 0 Status: OK PackageFile: hoodscanR_1.8.0.tar.gz PackageFileSize: 2.848 MiB