Package: hmdbQuery Version: 1.28.0 Command: /home/biocbuild/bbs-3.21-bioc/R/bin/R CMD INSTALL hmdbQuery StartedAt: 2025-10-01 15:15:21 -0400 (Wed, 01 Oct 2025) EndedAt: 2025-10-01 15:15:27 -0400 (Wed, 01 Oct 2025) EllapsedTime: 6.4 seconds RetCode: 0 Status: OK