Package: hmdbQuery Version: 1.28.0 Command: rm -rf hmdbQuery.buildbin-libdir && mkdir hmdbQuery.buildbin-libdir && /Users/biocbuild/BBS/utils/build-universal.sh hmdbQuery_1.28.0.tar.gz /Library/Frameworks/R.framework/Resources/bin/R hmdbQuery.buildbin-libdir StartedAt: 2025-10-14 13:43:52 -0400 (Tue, 14 Oct 2025) EndedAt: 2025-10-14 13:44:13 -0400 (Tue, 14 Oct 2025) EllapsedTime: 21.0 seconds RetCode: 0 Status: OK PackageFile: hmdbQuery_1.28.0.tgz PackageFileSize: 888 KiB