Package: hmdbQuery Version: 1.28.0 Command: /home/biocbuild/R/R/bin/R CMD INSTALL hmdbQuery StartedAt: 2025-09-25 20:25:18 -0000 (Thu, 25 Sep 2025) EndedAt: 2025-09-25 20:25:25 -0000 (Thu, 25 Sep 2025) EllapsedTime: 7.1 seconds RetCode: 0 Status: OK