Package: hmdbQuery Version: 1.28.0 Command: /Library/Frameworks/R.framework/Resources/bin/R CMD INSTALL hmdbQuery StartedAt: 2025-10-02 15:37:26 -0400 (Thu, 02 Oct 2025) EndedAt: 2025-10-02 15:37:33 -0400 (Thu, 02 Oct 2025) EllapsedTime: 7.1 seconds RetCode: 0 Status: OK