Package: hmdbQuery Version: 1.28.0 Command: /Library/Frameworks/R.framework/Resources/bin/R CMD build --keep-empty-dirs --no-resave-data hmdbQuery StartedAt: 2025-10-03 02:21:12 -0400 (Fri, 03 Oct 2025) EndedAt: 2025-10-03 02:22:00 -0400 (Fri, 03 Oct 2025) EllapsedTime: 47.8 seconds RetCode: 0 Status: OK PackageFile: hmdbQuery_1.28.0.tar.gz PackageFileSize: 749.3 KiB