Package: hipathia Version: 3.10.0 Command: /home/biocbuild/bbs-3.22-bioc/R/bin/R CMD INSTALL hipathia StartedAt: 2025-11-13 15:38:59 -0500 (Thu, 13 Nov 2025) EndedAt: 2025-11-13 15:39:44 -0500 (Thu, 13 Nov 2025) EllapsedTime: 45.3 seconds RetCode: 0 Status: OK