Package: hipathia Version: 3.10.0 Command: /home/biocbuild/bbs-3.22-bioc/R/bin/R CMD build --keep-empty-dirs --no-resave-data --md5 hipathia StartedAt: 2025-11-13 18:12:12 -0500 (Thu, 13 Nov 2025) EndedAt: 2025-11-13 18:13:55 -0500 (Thu, 13 Nov 2025) EllapsedTime: 103.1 seconds RetCode: 1 Status: ERROR PackageFile: None PackageFileSize: NA