Package: hipathia Version: 3.10.0 Command: /Library/Frameworks/R.framework/Resources/bin/R CMD build --keep-empty-dirs --no-resave-data hipathia StartedAt: 2025-11-10 16:42:49 -0500 (Mon, 10 Nov 2025) EndedAt: 2025-11-10 16:43:31 -0500 (Mon, 10 Nov 2025) EllapsedTime: 42.5 seconds RetCode: 1 Status: ERROR PackageFile: None PackageFileSize: NA