Package: hierinf Version: 1.28.0 Command: /home/biocbuild/R/R/bin/R CMD INSTALL hierinf StartedAt: 2025-11-20 21:50:38 -0000 (Thu, 20 Nov 2025) EndedAt: 2025-11-20 21:51:39 -0000 (Thu, 20 Nov 2025) EllapsedTime: 60.5 seconds RetCode: 0 Status: OK