Package: hierinf Version: 1.28.0 Command: /home/biocbuild/R/R/bin/R CMD build --keep-empty-dirs --no-resave-data hierinf StartedAt: 2025-11-21 03:12:19 -0000 (Fri, 21 Nov 2025) EndedAt: 2025-11-21 03:14:42 -0000 (Fri, 21 Nov 2025) EllapsedTime: 143.1 seconds RetCode: 0 Status: OK PackageFile: hierinf_1.28.0.tar.gz PackageFileSize: 422.1 KiB