Package: hierinf Version: 1.28.0 Command: /home/biocbuild/bbs-3.22-bioc/R/bin/R CMD INSTALL hierinf StartedAt: 2025-11-11 15:10:04 -0500 (Tue, 11 Nov 2025) EndedAt: 2025-11-11 15:10:35 -0500 (Tue, 11 Nov 2025) EllapsedTime: 31.2 seconds RetCode: 0 Status: OK